BEGIN:VCALENDAR
VERSION:2.0
PRODID:-//Wilmette Park District - ECPv6.15.20//NONSGML v1.0//EN
CALSCALE:GREGORIAN
METHOD:PUBLISH
X-WR-CALNAME:Wilmette Park District
X-ORIGINAL-URL:https://wilmettepark.org
X-WR-CALDESC:Events for Wilmette Park District
REFRESH-INTERVAL;VALUE=DURATION:PT1H
X-Robots-Tag:noindex
X-PUBLISHED-TTL:PT1H
BEGIN:VTIMEZONE
TZID:America/Chicago
BEGIN:DAYLIGHT
TZOFFSETFROM:-0600
TZOFFSETTO:-0500
TZNAME:CDT
DTSTART:20250309T080000
END:DAYLIGHT
BEGIN:STANDARD
TZOFFSETFROM:-0500
TZOFFSETTO:-0600
TZNAME:CST
DTSTART:20251102T070000
END:STANDARD
BEGIN:DAYLIGHT
TZOFFSETFROM:-0600
TZOFFSETTO:-0500
TZNAME:CDT
DTSTART:20260308T080000
END:DAYLIGHT
BEGIN:STANDARD
TZOFFSETFROM:-0500
TZOFFSETTO:-0600
TZNAME:CST
DTSTART:20261101T070000
END:STANDARD
BEGIN:DAYLIGHT
TZOFFSETFROM:-0600
TZOFFSETTO:-0500
TZNAME:CDT
DTSTART:20270314T080000
END:DAYLIGHT
BEGIN:STANDARD
TZOFFSETFROM:-0500
TZOFFSETTO:-0600
TZNAME:CST
DTSTART:20271107T070000
END:STANDARD
END:VTIMEZONE
BEGIN:VEVENT
DTSTART;TZID=America/Chicago:20260313T123000
DTEND;TZID=America/Chicago:20260313T140000
DTSTAMP:20260420T032219
CREATED:20260223T190939Z
LAST-MODIFIED:20260226T201734Z
UID:85825-1773405000-1773410400@wilmettepark.org
SUMMARY:Pie Party
DESCRIPTION:Pie Party\nat Mallinckrodt Center (1041A Ridge Rd.) \n\nFriday\, March 13\n12:30-2 pm\nREGISTER HERE\n\nFees*: \n\nMallinckrodt Members – $10\nNon-members – $12\n\nJoin us for a delicious celebration of Pie Day at our Pie Party! Sample a variety of pies\, play pie-themed games\, bingo\, contests and vote for your favorite treat. Come for the pies\, stay for the fun—this is one party you don’t want to miss! *Bring your favorite store-bought pie to share and receive free admission!\nKindly sponsored by Whitehall of Deerfield.\n\n  \n  Download PDF\n      \n          \n          \n           Save This Page as a PDF
URL:https://wilmettepark.org/event-list/pie-party/
LOCATION:Mallinckrodt Center\, 1041A Ridge Rd.\, Wilmette\, IL\, 60091\, United States
CATEGORIES:Events
ATTACH;FMTTYPE=image/jpeg:https://d11ixze0kvt635.cloudfront.net/wp-content/uploads/2026/02/23130856/PP26-Fi.jpg
END:VEVENT
BEGIN:VEVENT
DTSTART;TZID=America/Chicago:20260311T163000
DTEND;TZID=America/Chicago:20260311T183000
DTSTAMP:20260420T032219
CREATED:20240124T224622Z
LAST-MODIFIED:20260112T192124Z
UID:68425-1773246600-1773253800@wilmettepark.org
SUMMARY:MARCH Job Fair
DESCRIPTION:Join our Team for Summer 2026!\nDiscover exciting opportunities at our Summer Job Fair! Meet our team\, explore various positions\, find the perfect fit\, and schedule your interview. Same-day interviews are available for select positions! \n\nWHEN: Wednesday\, March 11 from 4:30-6:30 pm\nWHERE: Lakeview Center\, 800 Gillson Park Dr.\n\nWhy Join Us?  \n\nMake a positive impact on your community.\nEnjoy a dynamic and fun work environment.\nGain valuable skills and experience.\nBuild lasting friendships!\n\nWho We’re Looking For:  \n\nAge 16 & up* (15 & up w/ work permit for select positions)\nEnthusiastic individuals looking for a fulfilling summer experience\n\n*Lifeguards must meet the 16 & up age requirement by 5/1/26. All other positions must meet the age requirement by 6/1/26. \n\n  \n  Download PDF\n      \n          \n          \n           Save This Page as a PDF
URL:https://wilmettepark.org/event-list/march-job-fair/
LOCATION:Lakeview Center\, 800 Gillson Park Dr.\, Wilmette\, IL\, 60091\, United States
CATEGORIES:Events
ATTACH;FMTTYPE=image/jpeg:https://d11ixze0kvt635.cloudfront.net/wp-content/uploads/2024/01/12131741/JF26-FEB-Fi.jpg
END:VEVENT
BEGIN:VEVENT
DTSTART;VALUE=DATE:20260303
DTEND;VALUE=DATE:20260304
DTSTAMP:20260420T032219
CREATED:20240202T221450Z
LAST-MODIFIED:20260107T172525Z
UID:68604-1772496000-1772582399@wilmettepark.org
SUMMARY:Spring+Summer Programs Posted
DESCRIPTION:Save the date for Spring+Summer resident registration!\nGet ready for warmer\, active days! Spring & summer programs arrive on 3/3 – plan ahead for registration:\nRegistration opens at 10 am:\n\n\n\n3/17 for residents\n3/24 for non-residents\n\nSpring session runs 4/6-6/7. Summer session runs 6/8-8/16. \n\n\n\n  \n  Download PDF\n      \n          \n          \n           Save This Page as a PDF
URL:https://wilmettepark.org/event-list/springsummer-programs-posted/
LOCATION:Online\, United States
CATEGORIES:Events
ATTACH;FMTTYPE=image/jpeg:https://d11ixze0kvt635.cloudfront.net/wp-content/uploads/2024/02/07112407/SPSU26-LIVE-Fi.jpg
END:VEVENT
BEGIN:VEVENT
DTSTART;VALUE=DATE:20260301
DTEND;VALUE=DATE:20260501
DTSTAMP:20260420T032219
CREATED:20260212T180401Z
LAST-MODIFIED:20260212T180930Z
UID:85664-1772323200-1777593599@wilmettepark.org
SUMMARY:Spring in Motion BINGO Begins!
DESCRIPTION:Join the Center Fitness Club’s Spring into Motion BINGO Challenge!\n\n\n\n\n\nGoal: Complete 5 in a row from March 1 – April 30.\nJoin the challenge at the CFC front desk! Cards will be posted at the front of the CFC for you to update and track your progress.\nAll cards with a BINGO will be entered into a raffle for fun prizes!\n\nMust be a member at the Center Fitness Club to participate. Learn more about the club HERE! \n\n\n\n  \n  Download PDF\n      \n          \n          \n           Save This Page as a PDF
URL:https://wilmettepark.org/event-list/spring-in-motion-bingo-begins/
LOCATION:Center Fitness Club
CATEGORIES:Events
ATTACH;FMTTYPE=image/jpeg:https://d11ixze0kvt635.cloudfront.net/wp-content/uploads/2026/02/12120751/SIM-BINGO-Fi2.jpg
END:VEVENT
END:VCALENDAR